BEGIN:VCALENDAR
VERSION:2.0
PRODID://MusicLiveCOLCHESTER//musiclivecolchester.com//EN
BEGIN:VEVENT
SUMMARY:Hunter Muskett
DTSTART:20270419T200000
DTSTAMP:20260424T140329Z
UID:hunter-muskett
DESCRIPTION:
GEO:51.888742;0.8943686
LOCATION:Colchester Arts Centre
URL:https://musiclivecolchester.com/gigs/hunter-muskett
END:VEVENT
END:VCALENDAR
