BEGIN:VCALENDAR
VERSION:2.0
PRODID://MusicLiveCOLCHESTER//musiclivecolchester.com//EN
BEGIN:VEVENT
SUMMARY:Hashtag
DTSTART:20250607T210000
DTSTAMP:20260424T214550Z
UID:hashtag
DESCRIPTION:Covers band
GEO:51.8896;0.9029
LOCATION:CODA
URL:https://musiclivecolchester.com/gigs/hashtag
END:VEVENT
END:VCALENDAR
