BEGIN:VCALENDAR
VERSION:2.0
PRODID://MusicLiveCOLCHESTER//musiclivecolchester.com//EN
BEGIN:VEVENT
SUMMARY:Gutrectomy + Beyond Extinction + Kanine + Heated
DTSTART:20250822T181500
DTEND:20250822T220000
DTSTAMP:20260422T191658Z
UID:gutrectomy-beyond-extinction-kanine-heated
DESCRIPTION:Slamdown Supremacy est. MMXI
GEO:51.889453;0.902372
LOCATION:Three Wise Monkeys
URL:https://musiclivecolchester.com/gigs/gutrectomy-beyond-extinction-kani
 ne-heated
END:VEVENT
END:VCALENDAR
