BEGIN:VCALENDAR
VERSION:2.0
PRODID://MusicLiveCOLCHESTER//musiclivecolchester.com//EN
BEGIN:VEVENT
SUMMARY:Gin Chang Rompus
DTSTART:20250905T210000
DTSTAMP:20260424T141155Z
UID:gin-chang-rompus
DESCRIPTION:A night of ska\, dub\, folk and fine live music
GEO:51.8896;0.9029
LOCATION:CODA
URL:https://musiclivecolchester.com/gigs/gin-chang-rompus
END:VEVENT
END:VCALENDAR
