BEGIN:VCALENDAR
VERSION:2.0
PRODID://MusicLiveCOLCHESTER//musiclivecolchester.com//EN
BEGIN:VEVENT
SUMMARY:Get The Funk Out - Live @ The Bull
DTSTART:20251128T210000
DTSTAMP:20260424T200109Z
UID:get-the-funk-out-live-the-bull
DESCRIPTION:Five-piece female fronted function band based in Essex
GEO:51.8876699;0.8930575
LOCATION:The Bull
URL:https://musiclivecolchester.com/gigs/get-the-funk-out-live-the-bull
END:VEVENT
END:VCALENDAR
