BEGIN:VCALENDAR
VERSION:2.0
PRODID://MusicLiveCOLCHESTER//musiclivecolchester.com//EN
BEGIN:VEVENT
SUMMARY:Gasoline Green @ Stone Rock Records
DTSTART:20260510T130000
DTSTAMP:20260422T144406Z
UID:gasoline-green-stone-rock-records
DESCRIPTION:Arthur Russell in Tangier single release party
GEO:51.8880334;0.8962977
LOCATION:Stone Rock Records
URL:https://musiclivecolchester.com/gigs/gasoline-green-stone-rock-records
END:VEVENT
END:VCALENDAR
