BEGIN:VCALENDAR
VERSION:2.0
PRODID://MusicLiveCOLCHESTER//musiclivecolchester.com//EN
BEGIN:VEVENT
SUMMARY:Fraser Morgan's Gig-xhibition - Live @ St. Leonard's Church
DTSTART:20241101T190000
DTSTAMP:20260424T175501Z
UID:fraser-morgans-gig-xhibition-live-st-leonards-chur
DESCRIPTION:Young\, dumb and full of being a silly goose
GEO:51.8844745;0.9232328
LOCATION:St Leonard-at-the-Hythe
URL:https://musiclivecolchester.com/gigs/fraser-morgans-gig-xhibition-live
 -st-leonards-chur
END:VEVENT
END:VCALENDAR
