BEGIN:VCALENDAR
VERSION:2.0
PRODID://MusicLiveCOLCHESTER//musiclivecolchester.com//EN
BEGIN:VEVENT
SUMMARY:Fourtitude - Live @ The Bull
DTSTART:20250913T210000
DTSTAMP:20260424T175501Z
UID:fourtitude-live-the-bull-september-2025
DESCRIPTION:Havin' fun\, rocking out all night having good times!
GEO:51.8876699;0.8930575
LOCATION:The Bull
URL:https://musiclivecolchester.com/gigs/fourtitude-live-the-bull-septembe
 r-2025
END:VEVENT
END:VCALENDAR
