BEGIN:VCALENDAR
VERSION:2.0
PRODID://MusicLiveCOLCHESTER//musiclivecolchester.com//EN
BEGIN:VEVENT
SUMMARY:The Mandala Effect + Fatal Fractures + We Punch Tigers + Hoof!
DTSTART:20251115T200000
DTSTAMP:20260424T194727Z
UID:fatal-fractures-guests-tbc
DESCRIPTION:
GEO:51.889483;0.904393
LOCATION:Queen Street Brewhouse
URL:https://musiclivecolchester.com/gigs/fatal-fractures-guests-tbc
END:VEVENT
END:VCALENDAR
