BEGIN:VCALENDAR
VERSION:2.0
PRODID://MusicLiveCOLCHESTER//musiclivecolchester.com//EN
BEGIN:VEVENT
SUMMARY:Fat Pigeon - HMV Live & Local
DTSTART:20250816T123000
DTSTAMP:20260422T155209Z
UID:fat-pigeon-hmv-live-and-local
DESCRIPTION:Four happy blokes playing some ferocious kick up the arse R&B
GEO:51.8881296;0.8946176
LOCATION:HMV Colchester
URL:https://musiclivecolchester.com/gigs/fat-pigeon-hmv-live-and-local
END:VEVENT
END:VCALENDAR
