BEGIN:VCALENDAR
VERSION:2.0
PRODID://MusicLiveCOLCHESTER//musiclivecolchester.com//EN
BEGIN:VEVENT
SUMMARY:Fat Pigeon
DTSTART:20251206T200000
DTSTAMP:20260422T195517Z
UID:fat-pigeon-brewhouse-december-2025
DESCRIPTION:Four happy blokes playing some ferocious kick up the arse R&B
GEO:51.889483;0.904393
LOCATION:Queen Street Brewhouse
URL:https://musiclivecolchester.com/gigs/fat-pigeon-brewhouse-december-202
 5
END:VEVENT
END:VCALENDAR
