BEGIN:VCALENDAR
VERSION:2.0
PRODID://MusicLiveCOLCHESTER//musiclivecolchester.com//EN
BEGIN:VEVENT
SUMMARY:Essex Deathfest 2026
DTSTART:20260912T140000
DTEND:20260912T230000
DTSTAMP:20260422T125632Z
UID:essex-deathfest-2026-three-wise-monkeys-colchester
DESCRIPTION:A full day of the hardest in death\, hardcore and crossover
GEO:51.889453;0.902372
LOCATION:Three Wise Monkeys
URL:https://musiclivecolchester.com/gigs/essex-deathfest-2026-three-wise-m
 onkeys-colchester
END:VEVENT
END:VCALENDAR
