BEGIN:VCALENDAR
VERSION:2.0
PRODID://MusicLiveCOLCHESTER//musiclivecolchester.com//EN
BEGIN:VEVENT
SUMMARY:D'Ukes
DTSTART:20250809T140000
DTSTAMP:20260424T160737Z
UID:dukes-black-buoy-august-2025
DESCRIPTION:Very entertaining six-piece ukulele covers band from Essex per
 forming styles of music to suit all taste
GEO:51.8545714;0.959958
LOCATION:The Black Buoy\, Wivenhoe
URL:https://musiclivecolchester.com/gigs/dukes-black-buoy-august-2025
END:VEVENT
END:VCALENDAR
