BEGIN:VCALENDAR
VERSION:2.0
PRODID://MusicLiveCOLCHESTER//musiclivecolchester.com//EN
BEGIN:VEVENT
SUMMARY:Duck for Cover - Live @ The Bull
DTSTART:20240928T210000
DTSTAMP:20260424T232528Z
UID:duck-for-cover-live-the-bull
DESCRIPTION:
GEO:51.8876699;0.8930575
LOCATION:The Bull
URL:https://musiclivecolchester.com/gigs/duck-for-cover-live-the-bull
END:VEVENT
END:VCALENDAR
