BEGIN:VCALENDAR
VERSION:2.0
PRODID://MusicLiveCOLCHESTER//musiclivecolchester.com//EN
BEGIN:VEVENT
SUMMARY:David Ford: Songbook Tour
DTSTART:20261122T193000
DTSTAMP:20260424T154035Z
UID:david-ford-songbook-tour
DESCRIPTION:Highlights and stories from 25 years of songwriting
GEO:51.888742;0.8943686
LOCATION:Colchester Arts Centre
URL:https://musiclivecolchester.com/gigs/david-ford-songbook-tour
END:VEVENT
END:VCALENDAR
