BEGIN:VCALENDAR
VERSION:2.0
PRODID://MusicLiveCOLCHESTER//musiclivecolchester.com//EN
BEGIN:VEVENT
SUMMARY:Daniel Martinez Flamenco Company: Art of Andalucia
DTSTART:20251124T193000
DTSTAMP:20260424T201221Z
UID:daniel-martinez-flamenco-company-art-of-andalucia
DESCRIPTION:Spanish flamenco company based primarily in Edinburgh\, Scotla
 nd
GEO:51.8870453;0.9039578
LOCATION:St Botolph's Church
URL:https://musiclivecolchester.com/gigs/daniel-martinez-flamenco-company-
 art-of-andalucia
END:VEVENT
END:VCALENDAR
