BEGIN:VCALENDAR
VERSION:2.0
PRODID://MusicLiveCOLCHESTER//musiclivecolchester.com//EN
BEGIN:VEVENT
SUMMARY:Cytotoxin + Analepsy + Osiah + Cognitive
DTSTART:20251118T190000
DTEND:20251118T230000
DTSTAMP:20260424T175416Z
UID:cytotoxin-analepsy-osiah-cognitive
DESCRIPTION:Cytotoxin and friends bring Chernobyl death metal to Colcheste
 r
GEO:51.889453;0.902372
LOCATION:Three Wise Monkeys
URL:https://musiclivecolchester.com/gigs/cytotoxin-analepsy-osiah-cognitiv
 e
END:VEVENT
END:VCALENDAR
