BEGIN:VCALENDAR
VERSION:2.0
PRODID://MusicLiveCOLCHESTER//musiclivecolchester.com//EN
BEGIN:VEVENT
SUMMARY:CONFESSION @ CODA - September 2024
DTSTART:20240911T200000
DTSTAMP:20260424T194614Z
UID:confession-coda-september-2024
DESCRIPTION:Planet Fatale + Before the Sirens + Skarlet Envy
GEO:51.8896;0.9029
LOCATION:CODA
URL:https://musiclivecolchester.com/gigs/confession-coda-september-2024
END:VEVENT
END:VCALENDAR
