BEGIN:VCALENDAR
VERSION:2.0
PRODID://MusicLiveCOLCHESTER//musiclivecolchester.com//EN
BEGIN:VEVENT
SUMMARY:Commoner + Finbar Ansbe
DTSTART:20251009T190000
DTSTAMP:20260424T163010Z
UID:commoner-finbar-ansbe
DESCRIPTION:
GEO:51.889483;0.904393
LOCATION:Queen Street Brewhouse
URL:https://musiclivecolchester.com/gigs/commoner-finbar-ansbe
END:VEVENT
END:VCALENDAR
