BEGIN:VCALENDAR
VERSION:2.0
PRODID://MusicLiveCOLCHESTER//musiclivecolchester.com//EN
BEGIN:VEVENT
SUMMARY:Coldplace: The World’s Leading Coldplay Tribute
DTSTART:20250614T193000
DTEND:20250614T200000
DTSTAMP:20260424T203455Z
UID:coldplace-the-worlds-leading-coldplay-tribute
DESCRIPTION:Coldplace – The World’s Leading Tribute to Coldplay is a 
 stunning live concert performance\, celebrating the music of one of the mo
 st successful bands of all time.
GEO:51.896616;0.9033541
LOCATION:Charter Hall
URL:https://musiclivecolchester.com/gigs/coldplace-the-worlds-leading-cold
 play-tribute
END:VEVENT
END:VCALENDAR
