BEGIN:VCALENDAR
VERSION:2.0
PRODID://MusicLiveCOLCHESTER//musiclivecolchester.com//EN
BEGIN:VEVENT
SUMMARY:Colchester’s Biggest Alt Showcase
DTSTART:20260619T193000
DTSTAMP:20260422T120137Z
UID:colchesters-biggest-alt-showcase-if-not-now-dead-c
DESCRIPTION:If Not Now + Dead Channels + Why Us + Vix Weaver
GEO:51.889453;0.902372
LOCATION:Three Wise Monkeys
URL:https://musiclivecolchester.com/gigs/colchesters-biggest-alt-showcase-
 if-not-now-dead-c
END:VEVENT
END:VCALENDAR
