BEGIN:VCALENDAR
VERSION:2.0
PRODID://MusicLiveCOLCHESTER//musiclivecolchester.com//EN
BEGIN:VEVENT
SUMMARY:Colchester Fringe Opening Party: Silence the Sirens
DTSTART:20241025T210000
DTSTAMP:20260424T160920Z
UID:colchester-fringe-opening-party-silence-the-sirens
DESCRIPTION:Unique live band available for weddings\, parties and events
GEO:51.8896;0.9029
LOCATION:CODA
URL:https://musiclivecolchester.com/gigs/colchester-fringe-opening-party-s
 ilence-the-sirens
END:VEVENT
END:VCALENDAR
