BEGIN:VCALENDAR
VERSION:2.0
PRODID://MusicLiveCOLCHESTER//musiclivecolchester.com//EN
BEGIN:VEVENT
SUMMARY:Colchester Choral Society: Here Comes Christmas!
DTSTART:20241208T160000
DTEND:20241208T173000
DTSTAMP:20260424T164744Z
UID:colchester-choral-society-here-comes-christmas
DESCRIPTION:Carols and festive music
GEO:51.8870453;0.9039578
LOCATION:St Botolph's Church
URL:https://musiclivecolchester.com/gigs/colchester-choral-society-here-co
 mes-christmas
END:VEVENT
END:VCALENDAR
