BEGIN:VCALENDAR
VERSION:2.0
PRODID://MusicLiveCOLCHESTER//musiclivecolchester.com//EN
BEGIN:VEVENT
SUMMARY:The Thursday Jam - 14/05/2026
DTSTART:20260514T203000
DTSTAMP:20260420T054538Z
UID:coda-thursday-jam-20260514
DESCRIPTION:Join the band - every Thursday from 8:30pm
GEO:51.8896;0.9029
LOCATION:CODA
URL:https://musiclivecolchester.com/gigs/coda-thursday-jam-20260514
END:VEVENT
END:VCALENDAR
