BEGIN:VCALENDAR
VERSION:2.0
PRODID://MusicLiveCOLCHESTER//musiclivecolchester.com//EN
BEGIN:VEVENT
SUMMARY:CODA Open Mic - 17/05/2026
DTSTART:20260517T200000
DTSTAMP:20260420T054455Z
UID:coda-open-mic-20260517
DESCRIPTION:Every Sunday from 8pm. Hosted by Rosalind Harniess
GEO:51.8896;0.9029
LOCATION:CODA
URL:https://musiclivecolchester.com/gigs/coda-open-mic-20260517
END:VEVENT
END:VCALENDAR
