BEGIN:VCALENDAR
VERSION:2.0
PRODID://MusicLiveCOLCHESTER//musiclivecolchester.com//EN
BEGIN:VEVENT
SUMMARY:CODA Open Mic - 10/05/2026
DTSTART:20260510T200000
DTSTAMP:20260420T095524Z
UID:coda-open-mic-20260510
DESCRIPTION:Every Sunday from 8pm. Hosted by Rosalind Harniess
GEO:51.8896;0.9029
LOCATION:CODA
URL:https://musiclivecolchester.com/gigs/coda-open-mic-20260510
END:VEVENT
END:VCALENDAR
