BEGIN:VCALENDAR
VERSION:2.0
PRODID://MusicLiveCOLCHESTER//musiclivecolchester.com//EN
BEGIN:VEVENT
SUMMARY:CODA's Acoustic Showcase - 7/9/24
DTSTART:20240907T150000
DTSTAMP:20260424T143647Z
UID:coda-colchesters-acoustic-showcase-7924
DESCRIPTION:Weekly acoustic showcase at CODA\, High Street\, Colchester
GEO:51.8896;0.9029
LOCATION:CODA
URL:https://musiclivecolchester.com/gigs/coda-colchesters-acoustic-showcas
 e-7924
END:VEVENT
END:VCALENDAR
