BEGIN:VCALENDAR
VERSION:2.0
PRODID://MusicLiveCOLCHESTER//musiclivecolchester.com//EN
BEGIN:VEVENT
SUMMARY:CODA's Acoustic Showcase - 5/10/24
DTSTART:20241005T150000
DTSTAMP:20260424T232612Z
UID:coda-colchesters-acoustic-showcase-51024
DESCRIPTION:Weekly acoustic showcase at CODA\, High Street\, Colchester
GEO:51.8896;0.9029
LOCATION:CODA
URL:https://musiclivecolchester.com/gigs/coda-colchesters-acoustic-showcas
 e-51024
END:VEVENT
END:VCALENDAR
