BEGIN:VCALENDAR
VERSION:2.0
PRODID://MusicLiveCOLCHESTER//musiclivecolchester.com//EN
BEGIN:VEVENT
SUMMARY:CODA's Acoustic Showcase 13/7/24
DTSTART:20240713T150000
DTSTAMP:20260424T232611Z
UID:coda-colchesters-acoustic-showcase-13724
DESCRIPTION:Weekly acoustic showcase at CODA\, High St.\, Colchester
GEO:51.8896;0.9029
LOCATION:CODA
URL:https://musiclivecolchester.com/gigs/coda-colchesters-acoustic-showcas
 e-13724
END:VEVENT
END:VCALENDAR
