BEGIN:VCALENDAR
VERSION:2.0
PRODID://MusicLiveCOLCHESTER//musiclivecolchester.com//EN
BEGIN:VEVENT
SUMMARY:CODA's Acoustic Showcase - 09/08/25
DTSTART:20250802T150000
DTEND:20250802T173000
DTSTAMP:20260425T014752Z
UID:coda-colchesters-acoustic-showcase-090825
DESCRIPTION:Hosted by Stu E Skinner
GEO:51.8896;0.9029
LOCATION:CODA
URL:https://musiclivecolchester.com/gigs/coda-colchesters-acoustic-showcas
 e-090825
END:VEVENT
END:VCALENDAR
