BEGIN:VCALENDAR
VERSION:2.0
PRODID://MusicLiveCOLCHESTER//musiclivecolchester.com//EN
BEGIN:VEVENT
SUMMARY:CODA's Acoustic Showcase - 01/03/25
DTSTART:20250301T150000
DTEND:20250301T173000
DTSTAMP:20260421T125549Z
UID:coda-colchesters-acoustic-showcase-010325
DESCRIPTION:Featuring Rob Lewis\, Sarah Louise and Jamie Barry
GEO:51.8896;0.9029
LOCATION:CODA
URL:https://musiclivecolchester.com/gigs/coda-colchesters-acoustic-showcas
 e-010325
END:VEVENT
END:VCALENDAR
