BEGIN:VCALENDAR
VERSION:2.0
PRODID://MusicLiveCOLCHESTER//musiclivecolchester.com//EN
BEGIN:VEVENT
SUMMARY:Christina Alden & Alex Patterson + The Larks
DTSTART:20251201T200000
DTSTAMP:20260424T160744Z
UID:christina-alden-alex-patterson
DESCRIPTION:Multi-instrumentalists and songwriters from East Anglia
GEO:51.888742;0.8943686
LOCATION:Colchester Arts Centre
URL:https://musiclivecolchester.com/gigs/christina-alden-alex-patterson
END:VEVENT
END:VCALENDAR
