BEGIN:VCALENDAR
VERSION:2.0
PRODID://MusicLiveCOLCHESTER//musiclivecolchester.com//EN
BEGIN:VEVENT
SUMMARY:Boys of Summer
DTSTART:20250719T210000
DTSTAMP:20260425T014704Z
UID:boys-of-summer
DESCRIPTION:
GEO:51.8876699;0.8930575
LOCATION:The Bull
URL:https://musiclivecolchester.com/gigs/boys-of-summer
END:VEVENT
END:VCALENDAR
