BEGIN:VCALENDAR
VERSION:2.0
PRODID://MusicLiveCOLCHESTER//musiclivecolchester.com//EN
BEGIN:VEVENT
SUMMARY:Boss Caine @ The Victoria Inn
DTSTART:20250803T170000
DTSTAMP:20260424T201216Z
UID:boss-caine-the-victoria-inn
DESCRIPTION:The long running main musical vehicle of singer/songwriter\, D
 aniel Lucas
GEO:51.8948178;0.8931099
LOCATION:The Victoria Inn
URL:https://musiclivecolchester.com/gigs/boss-caine-the-victoria-inn
END:VEVENT
END:VCALENDAR
