BEGIN:VCALENDAR
VERSION:2.0
PRODID://MusicLiveCOLCHESTER//musiclivecolchester.com//EN
BEGIN:VEVENT
SUMMARY:Black Cactus Studio Acoustic Session
DTSTART:20260419T170000
DTEND:20260419T200000
DTSTAMP:20260422T090300Z
UID:black-cactus-studio-acoustic-session
DESCRIPTION:A showcase presenting the best local talent
GEO:51.8893809;0.9021976
LOCATION:St Nicholas Square
URL:https://musiclivecolchester.com/gigs/black-cactus-studio-acoustic-sess
 ion
END:VEVENT
END:VCALENDAR
