BEGIN:VCALENDAR
VERSION:2.0
PRODID://MusicLiveCOLCHESTER//musiclivecolchester.com//EN
BEGIN:VEVENT
SUMMARY:Billy Fury Meets Elvis Presley
DTSTART:20250712T193000
DTSTAMP:20260425T014741Z
UID:billy-fury-meets-elvis-presley
DESCRIPTION:With tribute acts Alan Wilcox and Ivan Brady
GEO:51.8870847;0.8943278
LOCATION:Headgate Theatre
URL:https://musiclivecolchester.com/gigs/billy-fury-meets-elvis-presley
END:VEVENT
END:VCALENDAR
