BEGIN:VCALENDAR
VERSION:2.0
PRODID://MusicLiveCOLCHESTER//musiclivecolchester.com//EN
BEGIN:VEVENT
SUMMARY:BBC Introducing Showcase: The Trusted + Only Zizou + Evy Frearson
DTSTART;VALUE=DATE:20250130
DTSTAMP:20260424T212144Z
UID:bbc-introducing-showcase
DESCRIPTION:BBC Introducing in Essex and Cambridgeshire Presents: A Showca
 se Gig at Three Wise Monkeys for Independent Venue Week
GEO:51.889453;0.902372
LOCATION:Three Wise Monkeys
URL:https://musiclivecolchester.com/gigs/bbc-introducing-showcase
END:VEVENT
END:VCALENDAR
