BEGIN:VCALENDAR
VERSION:2.0
PRODID://MusicLiveCOLCHESTER//musiclivecolchester.com//EN
BEGIN:VEVENT
SUMMARY:BackTrackin' - Live Music in the Garden
DTSTART:20250526T120000
DTEND:20250526T150000
DTSTAMP:20260421T165527Z
UID:backtrackin-live-music-in-the-garden
DESCRIPTION:Classic rock and vintage pop covers band
GEO:51.8877123;0.8927748
LOCATION:The Kings Arms\, Crouch St
URL:https://musiclivecolchester.com/gigs/backtrackin-live-music-in-the-gar
 den
END:VEVENT
END:VCALENDAR
