BEGIN:VCALENDAR
VERSION:2.0
PRODID://MusicLiveCOLCHESTER//musiclivecolchester.com//EN
BEGIN:VEVENT
SUMMARY:BackTrackin' - Live Music in the Garden
DTSTART:20260525T130000
DTEND:20260525T160000
DTSTAMP:20260421T164222Z
UID:backtrackin-live-music-in-the-garden-2026
DESCRIPTION:Classic rock and vintage pop covers band
GEO:51.8877123;0.8927748
LOCATION:The Kings Arms\, Crouch St
URL:https://musiclivecolchester.com/gigs/backtrackin-live-music-in-the-gar
 den-2026
END:VEVENT
END:VCALENDAR
