BEGIN:VCALENDAR
VERSION:2.0
PRODID://MusicLiveCOLCHESTER//musiclivecolchester.com//EN
BEGIN:VEVENT
SUMMARY:Atom Heart Floyd
DTSTART:20260502T193000
DTEND:20260502T234500
DTSTAMP:20260425T143550Z
UID:atom-heart-floyd-pink-floyd-tribute-2026-05-02
DESCRIPTION:Pink Floyd tribute
GEO:51.889453;0.902372
LOCATION:Three Wise Monkeys
URL:https://musiclivecolchester.com/gigs/atom-heart-floyd-pink-floyd-tribu
 te-2026-05-02
END:VEVENT
END:VCALENDAR
