BEGIN:VCALENDAR
VERSION:2.0
PRODID://MusicLiveCOLCHESTER//musiclivecolchester.com//EN
BEGIN:VEVENT
SUMMARY:Artificial Monkeys
DTSTART:20250221T193000
DTEND:20250221T234500
DTSTAMP:20260424T181521Z
UID:artificial-monkeys-artic-monkeys-tribute
DESCRIPTION:Arctic Monkeys tribute
GEO:51.889453;0.902372
LOCATION:Three Wise Monkeys
URL:https://musiclivecolchester.com/gigs/artificial-monkeys-artic-monkeys-
 tribute
END:VEVENT
END:VCALENDAR
