BEGIN:VCALENDAR
VERSION:2.0
PRODID://MusicLiveCOLCHESTER//musiclivecolchester.com//EN
BEGIN:VEVENT
SUMMARY:Armoured Man + Panama City
DTSTART:20241012T200000
DTSTAMP:20260422T135318Z
UID:armoured-man-panama-city
DESCRIPTION:Create More\, Worry Less presents: PANAMARMOURED MAN
GEO:51.889483;0.904393
LOCATION:Queen Street Brewhouse
URL:https://musiclivecolchester.com/gigs/armoured-man-panama-city
END:VEVENT
END:VCALENDAR
