BEGIN:VCALENDAR
VERSION:2.0
PRODID://MusicLiveCOLCHESTER//musiclivecolchester.com//EN
BEGIN:VEVENT
SUMMARY:AOB - Live @ The Bull
DTSTART:20260410T210000
DTSTAMP:20260424T155144Z
UID:aob-live-the-bull-april-2026
DESCRIPTION:Rock\, pop and indie covers band based in Essex
GEO:51.8876699;0.8930575
LOCATION:The Bull
URL:https://musiclivecolchester.com/gigs/aob-live-the-bull-april-2026
END:VEVENT
END:VCALENDAR
