BEGIN:VCALENDAR
VERSION:2.0
PRODID://MusicLiveCOLCHESTER//musiclivecolchester.com//EN
BEGIN:VEVENT
SUMMARY:Angie Diggens @ Wivenhoe Live
DTSTART:20240728T120000
DTEND:20240728T170000
DTSTAMP:20260425T001608Z
UID:angie-diggens-wivenhoe-live
DESCRIPTION:Wedding singer\, professional vocalist and pianist
GEO:51.8787342;0.9517411
LOCATION:Wivenhoe House
URL:https://musiclivecolchester.com/gigs/angie-diggens-wivenhoe-live
END:VEVENT
END:VCALENDAR
