BEGIN:VCALENDAR
VERSION:2.0
PRODID://MusicLiveCOLCHESTER//musiclivecolchester.com//EN
BEGIN:VEVENT
SUMMARY:An Evening of Pink Floyd with A Saucerful of Floyd
DTSTART:20250906T193000
DTSTAMP:20260424T181715Z
UID:an-evening-of-pink-floyd-with-a-saucerful-of-floyd
DESCRIPTION:Tribute band
GEO:51.8870847;0.8943278
LOCATION:Headgate Theatre
URL:https://musiclivecolchester.com/gigs/an-evening-of-pink-floyd-with-a-s
 aucerful-of-floyd
END:VEVENT
END:VCALENDAR
