BEGIN:VCALENDAR
VERSION:2.0
PRODID://MusicLiveCOLCHESTER//musiclivecolchester.com//EN
BEGIN:VEVENT
SUMMARY:Alex Roberts @ The Victoria Inn
DTSTART:20250706T173000
DTSTAMP:20260424T215214Z
UID:alex-roberts-the-victoria-inn
DESCRIPTION:A masterful songwriter weaving folk\, blues\, and roots into s
 omething truly special
GEO:51.8948178;0.8931099
LOCATION:The Victoria Inn
URL:https://musiclivecolchester.com/gigs/alex-roberts-the-victoria-inn
END:VEVENT
END:VCALENDAR
