BEGIN:VCALENDAR
VERSION:2.0
PRODID://MusicLiveCOLCHESTER//musiclivecolchester.com//EN
BEGIN:VEVENT
SUMMARY:A Twist of ABBA
DTSTART:20260926T193000
DTEND:20260926T234500
DTSTAMP:20260422T084800Z
UID:a-twist-of-abba-2026-09-26
DESCRIPTION:Tribute act
GEO:51.889453;0.902372
LOCATION:Three Wise Monkeys
URL:https://musiclivecolchester.com/gigs/a-twist-of-abba-2026-09-26
END:VEVENT
END:VCALENDAR
