BEGIN:VCALENDAR
VERSION:2.0
PRODID://MusicLiveCOLCHESTER//musiclivecolchester.com//EN
BEGIN:VEVENT
SUMMARY:A Peaceful Noise - Roots & Grooves
DTSTART;VALUE=DATE:20251122
DTSTAMP:20260424T232528Z
UID:a-peaceful-noise-roots-and-grooves
DESCRIPTION:Lawrence Langmead's Normality + Secret Island Festival Takeove
 r
GEO:51.8893298;0.8989601
LOCATION:Roots & Grooves Café
URL:https://musiclivecolchester.com/gigs/a-peaceful-noise-roots-and-groove
 s
END:VEVENT
END:VCALENDAR
