BEGIN:VCALENDAR
VERSION:2.0
PRODID://MusicLiveCOLCHESTER//musiclivecolchester.com//EN
BEGIN:VEVENT
SUMMARY:The ELO Encounter: Blue Sky Tour
DTSTART:20251114T193000
DTSTAMP:20260424T182920Z
UID:1173660308-the-elo-encounter-blue-sky-tour
DESCRIPTION:The UK’s greatest Electric Light Orchestra tribute act
GEO:51.888742;0.8943686
LOCATION:Colchester Arts Centre
URL:https://musiclivecolchester.com/gigs/1173660308-the-elo-encounter-blue
 -sky-tour
END:VEVENT
END:VCALENDAR
