BEGIN:VCALENDAR
VERSION:2.0
PRODID://MusicLiveCOLCHESTER//musiclivecolchester.com//EN
BEGIN:VEVENT
SUMMARY:FM + Brave Rival
DTSTART:20250914T190000
DTSTAMP:20260424T182921Z
UID:1173659387-fm-special-guest-brave-rival
DESCRIPTION:"Brotherhood" tour
GEO:51.888742;0.8943686
LOCATION:Colchester Arts Centre
URL:https://musiclivecolchester.com/gigs/1173659387-fm-special-guest-brave
 -rival
END:VEVENT
END:VCALENDAR
